BEGIN:VCALENDAR
PRODID:-//nuDatenautomaten//framework iCal4j //DE
VERSION:2.0
CALSCALE:GREGORIAN
BEGIN:VTIMEZONE
TZID:Europe/Berlin
LAST-MODIFIED:20260306T231828Z
TZURL:https://www.tzurl.org/zoneinfo/Europe/Berlin
X-LIC-LOCATION:Europe/Berlin
X-PROLEPTIC-TZNAME:LMT
BEGIN:STANDARD
TZNAME:CET
TZOFFSETFROM:+005328
TZOFFSETTO:+0100
DTSTART:18930401T000000
END:STANDARD
BEGIN:DAYLIGHT
TZNAME:CEST
TZOFFSETFROM:+0100
TZOFFSETTO:+0200
DTSTART:19160430T230000
RDATE:19400401T020000
RDATE:19430329T020000
RDATE:19460414T020000
RDATE:19470406T030000
RDATE:19480418T020000
RDATE:19490410T020000
RDATE:19800406T020000
END:DAYLIGHT
BEGIN:STANDARD
TZNAME:CET
TZOFFSETFROM:+0200
TZOFFSETTO:+0100
DTSTART:19161001T010000
RDATE:19421102T030000
RDATE:19431004T030000
RDATE:19441002T030000
RDATE:19451118T030000
RDATE:19461007T030000
END:STANDARD
BEGIN:DAYLIGHT
TZNAME:CEST
TZOFFSETFROM:+0100
TZOFFSETTO:+0200
DTSTART:19170416T020000
RRULE:FREQ=YEARLY;UNTIL=19180415T010000Z;BYMONTH=4;BYDAY=3MO
END:DAYLIGHT
BEGIN:STANDARD
TZNAME:CET
TZOFFSETFROM:+0200
TZOFFSETTO:+0100
DTSTART:19170917T030000
RRULE:FREQ=YEARLY;UNTIL=19180916T010000Z;BYMONTH=9;BYDAY=3MO
END:STANDARD
BEGIN:DAYLIGHT
TZNAME:CEST
TZOFFSETFROM:+0100
TZOFFSETTO:+0200
DTSTART:19440403T020000
RRULE:FREQ=YEARLY;UNTIL=19450402T010000Z;BYMONTH=4;BYDAY=1MO
END:DAYLIGHT
BEGIN:DAYLIGHT
TZNAME:CEMT
TZOFFSETFROM:+0200
TZOFFSETTO:+0300
DTSTART:19450524T020000
RDATE:19470511T030000
END:DAYLIGHT
BEGIN:DAYLIGHT
TZNAME:CEST
TZOFFSETFROM:+0300
TZOFFSETTO:+0200
DTSTART:19450924T030000
RDATE:19470629T030000
END:DAYLIGHT
BEGIN:STANDARD
TZNAME:CET
TZOFFSETFROM:+0100
TZOFFSETTO:+0100
DTSTART:19460101T000000
RDATE:19800101T000000
END:STANDARD
BEGIN:STANDARD
TZNAME:CET
TZOFFSETFROM:+0200
TZOFFSETTO:+0100
DTSTART:19471005T030000
RRULE:FREQ=YEARLY;UNTIL=19491002T010000Z;BYMONTH=10;BYDAY=1SU
END:STANDARD
BEGIN:STANDARD
TZNAME:CET
TZOFFSETFROM:+0200
TZOFFSETTO:+0100
DTSTART:19800928T030000
RRULE:FREQ=YEARLY;UNTIL=19950924T010000Z;BYMONTH=9;BYDAY=-1SU
END:STANDARD
BEGIN:DAYLIGHT
TZNAME:CEST
TZOFFSETFROM:+0100
TZOFFSETTO:+0200
DTSTART:19810329T020000
RRULE:FREQ=YEARLY;BYMONTH=3;BYDAY=-1SU
END:DAYLIGHT
BEGIN:STANDARD
TZNAME:CET
TZOFFSETFROM:+0200
TZOFFSETTO:+0100
DTSTART:19961027T030000
RRULE:FREQ=YEARLY;BYMONTH=10;BYDAY=-1SU
END:STANDARD
END:VTIMEZONE
BEGIN:VEVENT
DTSTAMP:20260419T193046Z
DTSTART;TZID=Europe/Berlin:20251128T200000
DTEND;TZID=Europe/Berlin:20251128T230000
SUMMARY:Bezirksklasse D Gruppe 5 VfL Zusamaltheim vs FC 1920 Gundelfingen IV (22)
UID:fe68d30b-8acb-4851-825e-b8baf58c2ed8
STATUS:CONFIRMED
DESCRIPTION:Erwachsene Bezirksklasse D Gruppe 5 (Bayerischer TTV - Schwaben-Nord)\nBegegnungs-Nr: 22\nHeim: VfL Zusamaltheim\nGast: FC 1920 Gundelfingen IV\n\nAdresse: Untere Dorfstr. 1\, 86637 Zusamaltheim\n
LOCATION:Untere Dorfstr. 1\, 86637 Zusamaltheim
CATEGORIES:Saison 2025/26
END:VEVENT
BEGIN:VEVENT
DTSTAMP:20260419T193046Z
DTSTART;TZID=Europe/Berlin:20251010T200000
DTEND;TZID=Europe/Berlin:20251010T230000
SUMMARY:Bezirksklasse D Gruppe 5 VfL Zusamaltheim vs FC Konzenberg III (7)
UID:f3bfe765-8823-49c3-9a5a-e37a99bdcee1
STATUS:CONFIRMED
DESCRIPTION:Erwachsene Bezirksklasse D Gruppe 5 (Bayerischer TTV - Schwaben-Nord)\nBegegnungs-Nr: 7\nHeim: VfL Zusamaltheim\nGast: FC Konzenberg III\n\nAdresse: Untere Dorfstr. 1\, 86637 Zusamaltheim\n
LOCATION:Untere Dorfstr. 1\, 86637 Zusamaltheim
CATEGORIES:Saison 2025/26
END:VEVENT
BEGIN:VEVENT
DTSTAMP:20260419T193046Z
DTSTART;TZID=Europe/Berlin:20260313T200000
DTEND;TZID=Europe/Berlin:20260313T230000
SUMMARY:Bezirksklasse D Gruppe 5 VfL Zusamaltheim vs FC Reflexa Rettenbach II (50)
UID:a2de7d13-0659-41ea-8568-7b2e2895f187
STATUS:CONFIRMED
LAST-MODIFIED:20260118T120657Z
DESCRIPTION:Erwachsene Bezirksklasse D Gruppe 5 (Bayerischer TTV - Schwaben-Nord)\nBegegnungs-Nr: 50\nHeim: VfL Zusamaltheim\nGast: FC Reflexa Rettenbach II\n\nAdresse: Untere Dorfstr. 1\, 86637 Zusamaltheim\n
LOCATION:Untere Dorfstr. 1\, 86637 Zusamaltheim
CATEGORIES:Saison 2025/26
END:VEVENT
BEGIN:VEVENT
DTSTAMP:20260419T193046Z
DTSTART;TZID=Europe/Berlin:20260220T200000
DTEND;TZID=Europe/Berlin:20260220T230000
SUMMARY:Bezirksklasse D Gruppe 5 VfL Zusamaltheim vs SV Unterknöringen IV (43)
UID:1aeb4976-a888-495e-bc90-405697bc2b5e
STATUS:CONFIRMED
DESCRIPTION:Erwachsene Bezirksklasse D Gruppe 5 (Bayerischer TTV - Schwaben-Nord)\nBegegnungs-Nr: 43\nHeim: VfL Zusamaltheim\nGast: SV Unterknöringen IV\n\nAdresse: Untere Dorfstr. 1\, 86637 Zusamaltheim\n
LOCATION:Untere Dorfstr. 1\, 86637 Zusamaltheim
CATEGORIES:Saison 2025/26
END:VEVENT
BEGIN:VEVENT
DTSTAMP:20260419T193046Z
DTSTART;TZID=Europe/Berlin:20260130T200000
DTEND;TZID=Europe/Berlin:20260130T230000
SUMMARY:Bezirksklasse D Gruppe 5 VfL Zusamaltheim vs SV Waldstetten 1950 II (35)
UID:dfc3cda7-6ceb-4a79-bf69-c00f10361da8
STATUS:CONFIRMED
DESCRIPTION:Erwachsene Bezirksklasse D Gruppe 5 (Bayerischer TTV - Schwaben-Nord)\nBegegnungs-Nr: 35\nHeim: VfL Zusamaltheim\nGast: SV Waldstetten 1950 II\n\nAdresse: Untere Dorfstr. 1\, 86637 Zusamaltheim\n
LOCATION:Untere Dorfstr. 1\, 86637 Zusamaltheim
CATEGORIES:Saison 2025/26
END:VEVENT
BEGIN:VEVENT
DTSTAMP:20260419T193046Z
DTSTART;TZID=Europe/Berlin:20260123T200000
DTEND;TZID=Europe/Berlin:20260123T230000
SUMMARY:Bezirksklasse D Gruppe 5 VfL Zusamaltheim vs SV Ettenbeuren 46 III (31)
UID:2b48f2fb-e8d7-4c99-a6e5-095f961f0c49
STATUS:CONFIRMED
LAST-MODIFIED:20251218T121333Z
DESCRIPTION:Erwachsene Bezirksklasse D Gruppe 5 (Bayerischer TTV - Schwaben-Nord)\nBegegnungs-Nr: 31\nHeim: VfL Zusamaltheim\nGast: SV Ettenbeuren 46 III\n\nAdresse: Untere Dorfstr. 1\, 86637 Zusamaltheim\n
LOCATION:Untere Dorfstr. 1\, 86637 Zusamaltheim
CATEGORIES:Saison 2025/26
END:VEVENT
BEGIN:VEVENT
DTSTAMP:20260419T193046Z
DTSTART;TZID=Europe/Berlin:20251206T170000
DTEND;TZID=Europe/Berlin:20251206T200000
SUMMARY:Bezirksklasse D Gruppe 5 VfL Günzburg VI vs VfL Zusamaltheim (26)
UID:2c748312-e6a6-4b64-8baa-8411d55283b6
STATUS:CONFIRMED
DESCRIPTION:Erwachsene Bezirksklasse D Gruppe 5 (Bayerischer TTV - Schwaben-Nord)\nBegegnungs-Nr: 26\nHeim: VfL Günzburg VI\nGast: VfL Zusamaltheim\n\nAdresse: Am Südlichen Burgfrieden 2\, 89312 Günzburg\n
LOCATION:Am Südlichen Burgfrieden 2\, 89312 Günzburg
CATEGORIES:Saison 2025/26
END:VEVENT
BEGIN:VEVENT
DTSTAMP:20260419T193046Z
DTSTART;TZID=Europe/Berlin:20251114T203000
DTEND;TZID=Europe/Berlin:20251114T233000
SUMMARY:Bezirksklasse D Gruppe 5 SV Unterknöringen IV vs VfL Zusamaltheim (17)
UID:d82bda21-60bb-4c9e-94d2-cdb9ecd2788f
STATUS:CONFIRMED
DESCRIPTION:Erwachsene Bezirksklasse D Gruppe 5 (Bayerischer TTV - Schwaben-Nord)\nBegegnungs-Nr: 17\nHeim: SV Unterknöringen IV\nGast: VfL Zusamaltheim\n\nAdresse: Knöringer Kirchplatz\, 89331 Burgau\n
LOCATION:Knöringer Kirchplatz\, 89331 Burgau
CATEGORIES:Saison 2025/26
END:VEVENT
BEGIN:VEVENT
DTSTAMP:20260419T193046Z
DTSTART;TZID=Europe/Berlin:20250913T190000
DTEND;TZID=Europe/Berlin:20250913T220000
SUMMARY:Bezirksklasse D Gruppe 5 SV Ettenbeuren 46 III vs VfL Zusamaltheim (2)
UID:4a72ce7d-4418-4a62-a40d-e051820d5f81
STATUS:CONFIRMED
DESCRIPTION:Erwachsene Bezirksklasse D Gruppe 5 (Bayerischer TTV - Schwaben-Nord)\nBegegnungs-Nr: 2\nHeim: SV Ettenbeuren 46 III\nGast: VfL Zusamaltheim\n\nAdresse: Am Sportplatz 2\, 89358 Ettenbeuren\n
LOCATION:Am Sportplatz 2\, 89358 Ettenbeuren
CATEGORIES:Saison 2025/26
END:VEVENT
BEGIN:VEVENT
DTSTAMP:20260419T193046Z
DTSTART;TZID=Europe/Berlin:20251107T201500
DTEND;TZID=Europe/Berlin:20251107T231500
SUMMARY:Bezirksklasse D Gruppe 5 FC Reflexa Rettenbach II vs VfL Zusamaltheim (13)
UID:cf38ba4d-3094-4517-8753-100f9f8263bf
STATUS:CONFIRMED
DESCRIPTION:Erwachsene Bezirksklasse D Gruppe 5 (Bayerischer TTV - Schwaben-Nord)\nBegegnungs-Nr: 13\nHeim: FC Reflexa Rettenbach II\nGast: VfL Zusamaltheim\n\nAdresse: Von Riedheim Straße 5\, 89364 Rettenbach\n
LOCATION:Von Riedheim Straße 5\, 89364 Rettenbach
CATEGORIES:Saison 2025/26
END:VEVENT
BEGIN:VEVENT
DTSTAMP:20260419T193046Z
DTSTART;TZID=Europe/Berlin:20251024T203000
DTEND;TZID=Europe/Berlin:20251024T233000
SUMMARY:Bezirksklasse D Gruppe 5 SV Waldstetten 1950 II vs VfL Zusamaltheim (12)
UID:2ee32815-7d23-4d4b-b431-e8e3e8518ede
STATUS:CONFIRMED
DESCRIPTION:Erwachsene Bezirksklasse D Gruppe 5 (Bayerischer TTV - Schwaben-Nord)\nBegegnungs-Nr: 12\nHeim: SV Waldstetten 1950 II\nGast: VfL Zusamaltheim\n\nAdresse: Am Sportplatz 1\, 89367 Waldstetten\n
LOCATION:Am Sportplatz 1\, 89367 Waldstetten
CATEGORIES:Saison 2025/26
END:VEVENT
BEGIN:VEVENT
DTSTAMP:20260419T193046Z
DTSTART;TZID=Europe/Berlin:20260306T203000
DTEND;TZID=Europe/Berlin:20260306T233000
SUMMARY:Bezirksklasse D Gruppe 5 FC 1920 Gundelfingen IV vs VfL Zusamaltheim (48)
UID:c14c4c86-6041-4d7b-aa60-27b7e7ad8d71
STATUS:CONFIRMED
DESCRIPTION:Erwachsene Bezirksklasse D Gruppe 5 (Bayerischer TTV - Schwaben-Nord)\nBegegnungs-Nr: 48\nHeim: FC 1920 Gundelfingen IV\nGast: VfL Zusamaltheim\n\nAdresse: Schlachteggstr. 2 (Eingang Hallenbad)\, 89423 Gundelfingen\n
LOCATION:Schlachteggstr. 2 (Eingang Hallenbad)\, 89423 Gundelfingen
CATEGORIES:Saison 2025/26
END:VEVENT
BEGIN:VEVENT
DTSTAMP:20260419T193046Z
DTSTART;TZID=Europe/Berlin:20260206T200000
DTEND;TZID=Europe/Berlin:20260206T230000
SUMMARY:Bezirksklasse D Gruppe 5 FC Konzenberg III vs VfL Zusamaltheim (37)
UID:cae24161-67fa-4f54-958b-7b891b4642fb
STATUS:CONFIRMED
DESCRIPTION:Erwachsene Bezirksklasse D Gruppe 5 (Bayerischer TTV - Schwaben-Nord)\nBegegnungs-Nr: 37\nHeim: FC Konzenberg III\nGast: VfL Zusamaltheim\n\nAdresse: Hafenhofener Straße 3\, 89356 Haldenwang\n
LOCATION:Hafenhofener Straße 3\, 89356 Haldenwang
CATEGORIES:Saison 2025/26
END:VEVENT
END:VCALENDAR
